BEGIN:VCALENDAR
VERSION:2.0
PRODID:-//一般社団法人サステナブルコミュニティ - ECPv6.15.20//NONSGML v1.0//EN
CALSCALE:GREGORIAN
METHOD:PUBLISH
X-ORIGINAL-URL:https://sustainablecom.org
X-WR-CALDESC:一般社団法人サステナブルコミュニティ のイベント
REFRESH-INTERVAL;VALUE=DURATION:PT1H
X-Robots-Tag:noindex
X-PUBLISHED-TTL:PT1H
BEGIN:VTIMEZONE
TZID:Asia/Tokyo
BEGIN:STANDARD
TZOFFSETFROM:+0900
TZOFFSETTO:+0900
TZNAME:JST
DTSTART:20250101T000000
END:STANDARD
END:VTIMEZONE
BEGIN:VEVENT
DTSTART;TZID=Asia/Tokyo:20260129T190000
DTEND;TZID=Asia/Tokyo:20260129T220000
DTSTAMP:20260420T181219
CREATED:20260211T130738Z
LAST-MODIFIED:20260211T133441Z
UID:485-1769713200-1769724000@sustainablecom.org
SUMMARY:ビジネスと人権_カジュアル食事会@大手町
DESCRIPTION:
URL:https://sustainablecom.org/event/%e3%83%93%e3%82%b8%e3%83%8d%e3%82%b9%e3%81%a8%e4%ba%ba%e6%a8%a9_%e3%82%ab%e3%82%b8%e3%83%a5%e3%82%a2%e3%83%ab%e9%a3%9f%e4%ba%8b%e4%bc%9a%e5%a4%a7%e6%89%8b%e7%94%ba/
CATEGORIES:リアル
END:VEVENT
END:VCALENDAR