BEGIN:VCALENDAR
VERSION:2.0
PRODID:-//一般社団法人サステナブルコミュニティ - ECPv6.15.20//NONSGML v1.0//EN
CALSCALE:GREGORIAN
METHOD:PUBLISH
X-WR-CALNAME:一般社団法人サステナブルコミュニティ
X-ORIGINAL-URL:https://sustainablecom.org
X-WR-CALDESC:一般社団法人サステナブルコミュニティ のイベント
REFRESH-INTERVAL;VALUE=DURATION:PT1H
X-Robots-Tag:noindex
X-PUBLISHED-TTL:PT1H
BEGIN:VTIMEZONE
TZID:Asia/Tokyo
BEGIN:STANDARD
TZOFFSETFROM:+0900
TZOFFSETTO:+0900
TZNAME:JST
DTSTART:20250101T000000
END:STANDARD
END:VTIMEZONE
BEGIN:VEVENT
DTSTART;TZID=Asia/Tokyo:20260216T190000
DTEND;TZID=Asia/Tokyo:20260216T220000
DTSTAMP:20260420T183057
CREATED:20260211T110741Z
LAST-MODIFIED:20260211T110837Z
UID:442-1771268400-1771279200@sustainablecom.org
SUMMARY:バイリンガルネットワーキングイベント@八重洲
DESCRIPTION:＜東京・八重洲でのバイリンガルイベントのお知らせ＞\n昨年につづき、ヤエパブでのバイリンガルイベントを2/16（月）に開催します。特に英語レベルは問いませんので、少しでもご興味あれば気軽にお越しください（こういう集まりに初めて参加の方や英語にさほど自信ないという方もお気軽にどうぞ！） \n日時：2026年2月16日（月）19:00～会場：ヤエスパブリック（東京駅から250m）〒104-0028 東京都中央区八重洲2丁目2-1 2階( https://maps.app.goo.gl/p4QprmgH6cc856GW7 ) \n参加費：無料（飲食はフードコートで各自購入できますが、必須ではありません）★参加予定の方は、「いいね」や「出席」などのリアクションをいただければ幸いです（今回事前登録は特にしていません） \nBilingual event at YaePub comes again!With an opportunity to meet other sustainability professionals\, let’s talk about trends\, share advice\, and make connections! \nDate/Time: 7:00 PM Feb 16\, 2026 Location: YaePub near Tokyo station\,Tokyo Midtown Yaesu 2nd floor ( https://maps.app.goo.gl/p4QprmgH6cc856GW7)Cost: none – you can buy drinks or food at the food court if you want but it’s not mandatory \nAny English-Japanese bilinguals\, including beginners\, are welcome!We are looking forward to meeting you at the venue!※Please react using “like” to express your interest (no registration forms prepared this time).
URL:https://sustainablecom.org/event/%e3%83%90%e3%82%a4%e3%83%aa%e3%83%b3%e3%82%ac%e3%83%ab%e3%83%8d%e3%83%83%e3%83%88%e3%83%af%e3%83%bc%e3%82%ad%e3%83%b3%e3%82%b0%e3%82%a4%e3%83%99%e3%83%b3%e3%83%88%e5%85%ab%e9%87%8d%e6%b4%b2/
CATEGORIES:リアル
END:VEVENT
END:VCALENDAR